Package: DeMixT Version: 1.16.0 Command: rm -rf DeMixT.buildbin-libdir && mkdir DeMixT.buildbin-libdir && /Users/biocbuild/BBS/utils/build-universal.sh DeMixT_1.16.0.tar.gz /Library/Frameworks/R.framework/Resources/bin/R DeMixT.buildbin-libdir StartedAt: 2023-10-16 09:16:20 -0400 (Mon, 16 Oct 2023) EndedAt: 2023-10-16 09:19:31 -0400 (Mon, 16 Oct 2023) EllapsedTime: 190.5 seconds RetCode: 0 Status: OK PackageFile: DeMixT_1.16.0.tgz PackageFileSize: 2.602 MiB