Package: DRIMSeq Version: 1.28.0 Command: /Library/Frameworks/R.framework/Resources/bin/R CMD check --install=check:DRIMSeq.install-out.txt --library=/Library/Frameworks/R.framework/Resources/library --no-vignettes --timings DRIMSeq_1.28.0.tar.gz StartedAt: 2023-10-16 01:10:11 -0400 (Mon, 16 Oct 2023) EndedAt: 2023-10-16 01:20:25 -0400 (Mon, 16 Oct 2023) EllapsedTime: 614.8 seconds RetCode: 0 Status: WARNINGS CheckDir: DRIMSeq.Rcheck Warnings: 1