Package: DOSE Version: 3.26.2 Command: F:\biocbuild\bbs-3.17-bioc\R\bin\R.exe CMD INSTALL DOSE StartedAt: 2023-10-15 16:37:16 -0400 (Sun, 15 Oct 2023) EndedAt: 2023-10-15 16:37:51 -0400 (Sun, 15 Oct 2023) EllapsedTime: 34.6 seconds RetCode: 0 Status: OK