Package: DNABarcodes Version: 1.29.0 Command: rm -rf DNABarcodes.buildbin-libdir && mkdir DNABarcodes.buildbin-libdir && /Users/biocbuild/BBS/utils/build-universal.sh DNABarcodes_1.29.0.tar.gz /Library/Frameworks/R.framework/Resources/bin/R DNABarcodes.buildbin-libdir StartedAt: 2023-03-16 09:05:00 -0400 (Thu, 16 Mar 2023) EndedAt: 2023-03-16 09:10:04 -0400 (Thu, 16 Mar 2023) EllapsedTime: 304.3 seconds RetCode: 0 Status: OK PackageFile: DNABarcodes_1.29.0.tgz PackageFileSize: 480.5 KiB