Package: DNABarcodeCompatibility Version: 1.16.0 Command: chmod a+r DNABarcodeCompatibility -R && F:\biocbuild\bbs-3.17-bioc\R\bin\R.exe CMD build --keep-empty-dirs --no-resave-data DNABarcodeCompatibility StartedAt: 2023-10-15 18:48:37 -0400 (Sun, 15 Oct 2023) EndedAt: 2023-10-15 18:49:29 -0400 (Sun, 15 Oct 2023) EllapsedTime: 51.7 seconds RetCode: 0 Status: OK PackageFile: DNABarcodeCompatibility_1.16.0.tar.gz PackageFileSize: 249.6 KiB