Package: DNABarcodeCompatibility Version: 1.16.0 Command: rm -rf DNABarcodeCompatibility.buildbin-libdir && mkdir DNABarcodeCompatibility.buildbin-libdir && F:\biocbuild\bbs-3.17-bioc\R\bin\R.exe CMD INSTALL --build --library=DNABarcodeCompatibility.buildbin-libdir DNABarcodeCompatibility_1.16.0.tar.gz StartedAt: 2023-10-16 08:43:22 -0400 (Mon, 16 Oct 2023) EndedAt: 2023-10-16 08:43:36 -0400 (Mon, 16 Oct 2023) EllapsedTime: 14.2 seconds RetCode: 0 Status: OK PackageFile: DNABarcodeCompatibility_1.16.0.zip PackageFileSize: 327 KiB