Package: DNABarcodeCompatibility Version: 1.16.0 Command: /home/biocbuild/bbs-3.17-bioc/R/bin/R CMD check --install=check:DNABarcodeCompatibility.install-out.txt --library=/home/biocbuild/bbs-3.17-bioc/R/site-library --timings DNABarcodeCompatibility_1.16.0.tar.gz StartedAt: 2023-10-15 20:54:45 -0400 (Sun, 15 Oct 2023) EndedAt: 2023-10-15 20:56:23 -0400 (Sun, 15 Oct 2023) EllapsedTime: 98.3 seconds RetCode: 0 Status: OK CheckDir: DNABarcodeCompatibility.Rcheck Warnings: 0