Package: DEqMS Version: 1.18.0 Command: /Library/Frameworks/R.framework/Resources/bin/R CMD check --install=check:DEqMS.install-out.txt --library=/Library/Frameworks/R.framework/Resources/library --no-vignettes --timings DEqMS_1.18.0.tar.gz StartedAt: 2023-10-16 00:49:59 -0400 (Mon, 16 Oct 2023) EndedAt: 2023-10-16 00:59:04 -0400 (Mon, 16 Oct 2023) EllapsedTime: 544.8 seconds RetCode: 0 Status: OK CheckDir: DEqMS.Rcheck Warnings: 0