Package: DEGreport Version: 1.36.0 Command: /Library/Frameworks/R.framework/Resources/bin/R CMD check --install=check:DEGreport.install-out.txt --library=/Library/Frameworks/R.framework/Resources/library --no-vignettes --timings DEGreport_1.36.0.tar.gz StartedAt: 2023-10-16 00:43:37 -0400 (Mon, 16 Oct 2023) EndedAt: 2023-10-16 00:57:41 -0400 (Mon, 16 Oct 2023) EllapsedTime: 843.4 seconds RetCode: 0 Status: WARNINGS CheckDir: DEGreport.Rcheck Warnings: 1