Package: CytoGLMM Version: 1.8.0 Command: /home/biocbuild/bbs-3.17-bioc/R/bin/R CMD check --install=check:CytoGLMM.install-out.txt --library=/home/biocbuild/bbs-3.17-bioc/R/site-library --timings CytoGLMM_1.8.0.tar.gz StartedAt: 2023-10-15 20:33:45 -0400 (Sun, 15 Oct 2023) EndedAt: 2023-10-15 20:37:20 -0400 (Sun, 15 Oct 2023) EllapsedTime: 215.3 seconds RetCode: 0 Status: OK CheckDir: CytoGLMM.Rcheck Warnings: 0