Package: CoSIA Version: 1.0.0 Command: /Library/Frameworks/R.framework/Resources/bin/R CMD check --install=check:CoSIA.install-out.txt --library=/Library/Frameworks/R.framework/Resources/library --no-vignettes --timings CoSIA_1.0.0.tar.gz StartedAt: 2023-10-16 00:15:40 -0400 (Mon, 16 Oct 2023) EndedAt: 2023-10-16 00:36:25 -0400 (Mon, 16 Oct 2023) EllapsedTime: 1244.7 seconds RetCode: 0 Status: OK CheckDir: CoSIA.Rcheck Warnings: 0