Package: CoSIA Version: 1.0.0 Command: /Library/Frameworks/R.framework/Resources/bin/R CMD build --keep-empty-dirs --no-resave-data CoSIA StartedAt: 2023-10-15 17:39:45 -0400 (Sun, 15 Oct 2023) EndedAt: 2023-10-15 17:56:35 -0400 (Sun, 15 Oct 2023) EllapsedTime: 1010.4 seconds RetCode: 0 Status: OK PackageFile: CoSIA_1.0.0.tar.gz PackageFileSize: 1.342 MiB