Package: ChIPQC Version: 1.36.1 Command: chmod a+r ChIPQC -R && F:\biocbuild\bbs-3.17-bioc\R\bin\R.exe CMD build --keep-empty-dirs --no-resave-data ChIPQC StartedAt: 2023-10-15 18:04:13 -0400 (Sun, 15 Oct 2023) EndedAt: 2023-10-15 18:05:48 -0400 (Sun, 15 Oct 2023) EllapsedTime: 95.0 seconds RetCode: 0 Status: OK PackageFile: ChIPQC_1.36.1.tar.gz PackageFileSize: 1.528 MiB