Package: ChAMP Version: 2.30.0 Command: /home/biocbuild/bbs-3.17-bioc/R/bin/R CMD check --install=check:ChAMP.install-out.txt --library=/home/biocbuild/bbs-3.17-bioc/R/site-library --timings ChAMP_2.30.0.tar.gz StartedAt: 2023-10-15 20:00:46 -0400 (Sun, 15 Oct 2023) EndedAt: 2023-10-15 20:09:30 -0400 (Sun, 15 Oct 2023) EllapsedTime: 523.8 seconds RetCode: 0 Status: WARNINGS CheckDir: ChAMP.Rcheck Warnings: 2