Package: Cepo Version: 1.6.0 Command: chmod a+r Cepo -R && F:\biocbuild\bbs-3.17-bioc\R\bin\R.exe CMD build --keep-empty-dirs --no-resave-data Cepo StartedAt: 2023-10-15 18:00:29 -0400 (Sun, 15 Oct 2023) EndedAt: 2023-10-15 18:03:18 -0400 (Sun, 15 Oct 2023) EllapsedTime: 168.1 seconds RetCode: 0 Status: OK PackageFile: Cepo_1.6.0.tar.gz PackageFileSize: 2.49 MiB