Package: Cepo Version: 1.6.0 Command: rm -rf Cepo.buildbin-libdir && mkdir Cepo.buildbin-libdir && F:\biocbuild\bbs-3.17-bioc\R\bin\R.exe CMD INSTALL --build --library=Cepo.buildbin-libdir Cepo_1.6.0.tar.gz StartedAt: 2023-10-16 08:33:23 -0400 (Mon, 16 Oct 2023) EndedAt: 2023-10-16 08:34:04 -0400 (Mon, 16 Oct 2023) EllapsedTime: 40.8 seconds RetCode: 0 Status: OK PackageFile: Cepo_1.6.0.zip PackageFileSize: 2.526 MiB