Package: Cepo Version: 1.6.0 Command: /Library/Frameworks/R.framework/Resources/bin/R CMD check --install=check:Cepo.install-out.txt --library=/Library/Frameworks/R.framework/Resources/library --no-vignettes --timings Cepo_1.6.0.tar.gz StartedAt: 2023-10-15 23:37:51 -0400 (Sun, 15 Oct 2023) EndedAt: 2023-10-15 23:47:24 -0400 (Sun, 15 Oct 2023) EllapsedTime: 573.2 seconds RetCode: 0 Status: WARNINGS CheckDir: Cepo.Rcheck Warnings: 3