Package: Cepo Version: 1.6.0 Command: /Library/Frameworks/R.framework/Resources/bin/R CMD build --keep-empty-dirs --no-resave-data Cepo StartedAt: 2023-10-15 17:18:34 -0400 (Sun, 15 Oct 2023) EndedAt: 2023-10-15 17:22:08 -0400 (Sun, 15 Oct 2023) EllapsedTime: 213.6 seconds RetCode: 0 Status: OK PackageFile: Cepo_1.6.0.tar.gz PackageFileSize: 3.014 MiB