Package: CelliD Version: 1.8.1 Command: /Library/Frameworks/R.framework/Resources/bin/R CMD build --keep-empty-dirs --no-resave-data CelliD StartedAt: 2023-10-15 17:16:45 -0400 (Sun, 15 Oct 2023) EndedAt: 2023-10-15 17:35:50 -0400 (Sun, 15 Oct 2023) EllapsedTime: 1144.4 seconds RetCode: 0 Status: OK PackageFile: CelliD_1.8.1.tar.gz PackageFileSize: 2.926 MiB