Package: CellBarcode Version: 1.6.0 Command: /Library/Frameworks/R.framework/Resources/bin/R CMD build --keep-empty-dirs --no-resave-data CellBarcode StartedAt: 2023-10-15 17:16:29 -0400 (Sun, 15 Oct 2023) EndedAt: 2023-10-15 17:20:19 -0400 (Sun, 15 Oct 2023) EllapsedTime: 230.0 seconds RetCode: 0 Status: OK PackageFile: CellBarcode_1.6.0.tar.gz PackageFileSize: 2.935 MiB