Package: CellBarcode Version: 1.6.0 Command: rm -rf CellBarcode.buildbin-libdir && mkdir CellBarcode.buildbin-libdir && /Users/biocbuild/BBS/utils/build-universal.sh CellBarcode_1.6.0.tar.gz /Library/Frameworks/R.framework/Resources/bin/R CellBarcode.buildbin-libdir StartedAt: 2023-10-16 09:06:02 -0400 (Mon, 16 Oct 2023) EndedAt: 2023-10-16 09:09:08 -0400 (Mon, 16 Oct 2023) EllapsedTime: 186.9 seconds RetCode: 0 Status: OK PackageFile: CellBarcode_1.6.0.tgz PackageFileSize: 3.489 MiB