Package: Category Version: 2.66.0 Command: chmod a+r Category -R && F:\biocbuild\bbs-3.17-bioc\R\bin\R.exe CMD build --keep-empty-dirs --no-resave-data Category StartedAt: 2023-10-15 17:54:45 -0400 (Sun, 15 Oct 2023) EndedAt: 2023-10-15 17:56:31 -0400 (Sun, 15 Oct 2023) EllapsedTime: 105.3 seconds RetCode: 0 Status: OK PackageFile: Category_2.66.0.tar.gz PackageFileSize: 864 KiB