Package: Category Version: 2.66.0 Command: /Library/Frameworks/R.framework/Resources/bin/R CMD check --install=check:Category.install-out.txt --library=/Library/Frameworks/R.framework/Resources/library --no-vignettes --timings Category_2.66.0.tar.gz StartedAt: 2023-10-15 23:27:54 -0400 (Sun, 15 Oct 2023) EndedAt: 2023-10-15 23:36:45 -0400 (Sun, 15 Oct 2023) EllapsedTime: 530.8 seconds RetCode: 1 Status: ERROR CheckDir: Category.Rcheck Warnings: NA