Package: Category Version: 2.66.0 Command: rm -rf Category.buildbin-libdir && mkdir Category.buildbin-libdir && /Users/biocbuild/BBS/utils/build-universal.sh Category_2.66.0.tar.gz /Library/Frameworks/R.framework/Resources/bin/R Category.buildbin-libdir StartedAt: 2023-10-16 09:05:27 -0400 (Mon, 16 Oct 2023) EndedAt: 2023-10-16 09:06:57 -0400 (Mon, 16 Oct 2023) EllapsedTime: 90.7 seconds RetCode: 0 Status: OK PackageFile: Category_2.66.0.tgz PackageFileSize: 1.413 MiB