Package: Cardinal Version: 3.2.1 Command: F:\biocbuild\bbs-3.17-bioc\R\bin\R.exe CMD INSTALL Cardinal StartedAt: 2023-10-15 16:20:48 -0400 (Sun, 15 Oct 2023) EndedAt: 2023-10-15 16:22:05 -0400 (Sun, 15 Oct 2023) EllapsedTime: 77.0 seconds RetCode: 0 Status: OK