Package: CSSP Version: 1.37.0 Command: F:\biocbuild\bbs-3.17-bioc\R\bin\R.exe CMD check --no-multiarch --install=check:CSSP.install-out.txt --library=F:\biocbuild\bbs-3.17-bioc\R\library --no-vignettes --timings CSSP_1.37.0.tar.gz StartedAt: 2023-04-17 00:37:05 -0400 (Mon, 17 Apr 2023) EndedAt: 2023-04-17 00:38:05 -0400 (Mon, 17 Apr 2023) EllapsedTime: 60.1 seconds RetCode: 0 Status: OK CheckDir: CSSP.Rcheck Warnings: 0