Package: CSSP Version: 1.37.0 Command: /Library/Frameworks/R.framework/Resources/bin/R CMD check --install=check:CSSP.install-out.txt --library=/Library/Frameworks/R.framework/Resources/library --no-vignettes --timings CSSP_1.37.0.tar.gz StartedAt: 2023-04-14 00:19:26 -0400 (Fri, 14 Apr 2023) EndedAt: 2023-04-14 00:21:14 -0400 (Fri, 14 Apr 2023) EllapsedTime: 107.9 seconds RetCode: 0 Status: OK CheckDir: CSSP.Rcheck Warnings: 0