Package: COTAN Version: 2.0.5 Command: /Library/Frameworks/R.framework/Resources/bin/R CMD build --keep-empty-dirs --no-resave-data COTAN StartedAt: 2023-10-15 17:40:07 -0400 (Sun, 15 Oct 2023) EndedAt: 2023-10-15 17:59:33 -0400 (Sun, 15 Oct 2023) EllapsedTime: 1166.4 seconds RetCode: 0 Status: OK PackageFile: COTAN_2.0.5.tar.gz PackageFileSize: 5.132 MiB