Package: COHCAP Version: 1.46.0 Command: /home/biocbuild/bbs-3.17-bioc/R/bin/R CMD build --keep-empty-dirs --no-resave-data COHCAP StartedAt: 2023-10-15 16:23:20 -0400 (Sun, 15 Oct 2023) EndedAt: 2023-10-15 16:23:53 -0400 (Sun, 15 Oct 2023) EllapsedTime: 33.2 seconds RetCode: 0 Status: OK PackageFile: COHCAP_1.46.0.tar.gz PackageFileSize: 133.2 KiB