Package: COHCAP Version: 1.46.0 Command: /Library/Frameworks/R.framework/Resources/bin/R CMD INSTALL COHCAP StartedAt: 2023-10-15 15:06:24 -0400 (Sun, 15 Oct 2023) EndedAt: 2023-10-15 15:07:27 -0400 (Sun, 15 Oct 2023) EllapsedTime: 62.9 seconds RetCode: 0 Status: OK