Package: COHCAP Version: 1.46.0 Command: /Library/Frameworks/R.framework/Resources/bin/R CMD build --keep-empty-dirs --no-resave-data COHCAP StartedAt: 2023-10-15 17:33:44 -0400 (Sun, 15 Oct 2023) EndedAt: 2023-10-15 17:35:12 -0400 (Sun, 15 Oct 2023) EllapsedTime: 87.9 seconds RetCode: 0 Status: OK PackageFile: COHCAP_1.46.0.tar.gz PackageFileSize: 236.5 KiB