Package: COCOA Version: 2.14.0 Command: F:\biocbuild\bbs-3.17-bioc\R\bin\R.exe CMD check --no-multiarch --install=check:COCOA.install-out.txt --library=F:\biocbuild\bbs-3.17-bioc\R\library --no-vignettes --timings COCOA_2.14.0.tar.gz StartedAt: 2023-10-16 00:48:34 -0400 (Mon, 16 Oct 2023) EndedAt: 2023-10-16 00:53:43 -0400 (Mon, 16 Oct 2023) EllapsedTime: 309.3 seconds RetCode: 0 Status: OK CheckDir: COCOA.Rcheck Warnings: 0