Package: COCOA Version: 2.14.0 Command: rm -rf COCOA.buildbin-libdir && mkdir COCOA.buildbin-libdir && F:\biocbuild\bbs-3.17-bioc\R\bin\R.exe CMD INSTALL --build --library=COCOA.buildbin-libdir COCOA_2.14.0.tar.gz StartedAt: 2023-10-16 08:36:47 -0400 (Mon, 16 Oct 2023) EndedAt: 2023-10-16 08:37:35 -0400 (Mon, 16 Oct 2023) EllapsedTime: 48.4 seconds RetCode: 0 Status: OK PackageFile: COCOA_2.14.0.zip PackageFileSize: 2.774 MiB