Package: CNVrd2 Version: 1.38.0 Command: /home/biocbuild/bbs-3.17-bioc/R/bin/R CMD check --install=check:CNVrd2.install-out.txt --library=/home/biocbuild/bbs-3.17-bioc/R/site-library --timings CNVrd2_1.38.0.tar.gz StartedAt: 2023-10-15 20:14:26 -0400 (Sun, 15 Oct 2023) EndedAt: 2023-10-15 20:17:56 -0400 (Sun, 15 Oct 2023) EllapsedTime: 209.9 seconds RetCode: 0 Status: OK CheckDir: CNVrd2.Rcheck Warnings: 0