Package: CARNIVAL Version: 2.10.0 Command: chmod a+r CARNIVAL -R && F:\biocbuild\bbs-3.17-bioc\R\bin\R.exe CMD build --keep-empty-dirs --no-resave-data CARNIVAL StartedAt: 2023-10-15 17:54:27 -0400 (Sun, 15 Oct 2023) EndedAt: 2023-10-15 17:54:45 -0400 (Sun, 15 Oct 2023) EllapsedTime: 17.2 seconds RetCode: 0 Status: OK PackageFile: CARNIVAL_2.10.0.tar.gz PackageFileSize: 2.047 MiB