Package: CAGEfightR Version: 1.20.0 Command: F:\biocbuild\bbs-3.17-bioc\R\bin\R.exe CMD INSTALL CAGEfightR StartedAt: 2023-10-15 16:28:53 -0400 (Sun, 15 Oct 2023) EndedAt: 2023-10-15 16:29:55 -0400 (Sun, 15 Oct 2023) EllapsedTime: 61.9 seconds RetCode: 0 Status: OK