Package: CAGEfightR Version: 1.20.0 Command: rm -rf CAGEfightR.buildbin-libdir && mkdir CAGEfightR.buildbin-libdir && F:\biocbuild\bbs-3.17-bioc\R\bin\R.exe CMD INSTALL --build --library=CAGEfightR.buildbin-libdir CAGEfightR_1.20.0.tar.gz StartedAt: 2023-10-16 08:31:25 -0400 (Mon, 16 Oct 2023) EndedAt: 2023-10-16 08:32:29 -0400 (Mon, 16 Oct 2023) EllapsedTime: 63.2 seconds RetCode: 0 Status: OK PackageFile: CAGEfightR_1.20.0.zip PackageFileSize: 2.584 MiB