Package: BufferedMatrixMethods Version: 1.64.0 Command: F:\biocbuild\bbs-3.17-bioc\R\bin\R.exe CMD check --no-multiarch --install=check:BufferedMatrixMethods.install-out.txt --library=F:\biocbuild\bbs-3.17-bioc\R\library --no-vignettes --timings BufferedMatrixMethods_1.64.0.tar.gz StartedAt: 2023-10-16 00:10:31 -0400 (Mon, 16 Oct 2023) EndedAt: 2023-10-16 00:10:59 -0400 (Mon, 16 Oct 2023) EllapsedTime: 27.6 seconds RetCode: 0 Status: OK CheckDir: BufferedMatrixMethods.Rcheck Warnings: 0