Package: BiocPkgTools Version: 1.18.1 Command: chmod a+r BiocPkgTools -R && F:\biocbuild\bbs-3.17-bioc\R\bin\R.exe CMD build --keep-empty-dirs --no-resave-data BiocPkgTools StartedAt: 2023-10-15 17:39:06 -0400 (Sun, 15 Oct 2023) EndedAt: 2023-10-15 17:49:04 -0400 (Sun, 15 Oct 2023) EllapsedTime: 597.4 seconds RetCode: 0 Status: OK PackageFile: BiocPkgTools_1.18.1.tar.gz PackageFileSize: 1.398 MiB