Package: BiocDockerManager Version: 1.12.0 Command: /home/biocbuild/bbs-3.17-bioc/R/bin/R CMD build --keep-empty-dirs --no-resave-data BiocDockerManager StartedAt: 2023-10-15 16:04:16 -0400 (Sun, 15 Oct 2023) EndedAt: 2023-10-15 16:04:27 -0400 (Sun, 15 Oct 2023) EllapsedTime: 10.3 seconds RetCode: 0 Status: OK PackageFile: BiocDockerManager_1.12.0.tar.gz PackageFileSize: 233.2 KiB