Package: BioNet Version: 1.60.0 Command: F:\biocbuild\bbs-3.17-bioc\R\bin\R.exe CMD check --no-multiarch --install=check:BioNet.install-out.txt --library=F:\biocbuild\bbs-3.17-bioc\R\library --no-vignettes --timings BioNet_1.60.0.tar.gz StartedAt: 2023-10-16 00:00:03 -0400 (Mon, 16 Oct 2023) EndedAt: 2023-10-16 00:03:12 -0400 (Mon, 16 Oct 2023) EllapsedTime: 189.3 seconds RetCode: 0 Status: OK CheckDir: BioNet.Rcheck Warnings: 0