Package: BioNet Version: 1.60.0 Command: rm -rf BioNet.buildbin-libdir && mkdir BioNet.buildbin-libdir && F:\biocbuild\bbs-3.17-bioc\R\bin\R.exe CMD INSTALL --build --library=BioNet.buildbin-libdir BioNet_1.60.0.tar.gz StartedAt: 2023-10-16 08:29:40 -0400 (Mon, 16 Oct 2023) EndedAt: 2023-10-16 08:30:00 -0400 (Mon, 16 Oct 2023) EllapsedTime: 19.7 seconds RetCode: 0 Status: OK PackageFile: BioNet_1.60.0.zip PackageFileSize: 1.325 MiB