Package: BioNERO Version: 1.8.7 Command: /Library/Frameworks/R.framework/Resources/bin/R CMD INSTALL BioNERO StartedAt: 2023-10-15 16:19:11 -0400 (Sun, 15 Oct 2023) EndedAt: 2023-10-15 16:20:58 -0400 (Sun, 15 Oct 2023) EllapsedTime: 107.5 seconds RetCode: 0 Status: OK