Package: BioMM Version: 1.15.0 Command: F:\biocbuild\bbs-3.17-bioc\R\bin\R.exe CMD check --no-multiarch --install=check:BioMM.install-out.txt --library=F:\biocbuild\bbs-3.17-bioc\R\library --no-vignettes --timings BioMM_1.15.0.tar.gz StartedAt: 2023-02-08 23:31:09 -0500 (Wed, 08 Feb 2023) EndedAt: 2023-02-08 23:34:32 -0500 (Wed, 08 Feb 2023) EllapsedTime: 203.9 seconds RetCode: 0 Status: OK CheckDir: BioMM.Rcheck Warnings: 0