Package: BioMM Version: 1.16.0 Command: chmod a+r BioMM -R && F:\biocbuild\bbs-3.17-bioc\R\bin\R.exe CMD build --keep-empty-dirs --no-resave-data BioMM StartedAt: 2023-10-15 17:44:37 -0400 (Sun, 15 Oct 2023) EndedAt: 2023-10-15 17:49:31 -0400 (Sun, 15 Oct 2023) EllapsedTime: 294.3 seconds RetCode: 1 Status: ERROR PackageFile: None PackageFileSize: NA