Package: BiFET Version: 1.20.0 Command: /home/biocbuild/bbs-3.17-bioc/R/bin/R CMD INSTALL BiFET StartedAt: 2023-10-15 15:10:59 -0400 (Sun, 15 Oct 2023) EndedAt: 2023-10-15 15:11:08 -0400 (Sun, 15 Oct 2023) EllapsedTime: 8.7 seconds RetCode: 0 Status: OK