Package: BgeeDB Version: 2.26.0 Command: /Library/Frameworks/R.framework/Resources/bin/R CMD build --keep-empty-dirs --no-resave-data BgeeDB StartedAt: 2023-10-15 16:54:41 -0400 (Sun, 15 Oct 2023) EndedAt: 2023-10-15 17:34:42 -0400 (Sun, 15 Oct 2023) EllapsedTime: 2400.6 seconds RetCode: None Status: TIMEOUT PackageFile: None PackageFileSize: NA