Package: BgeeDB Version: 2.26.0 Command: rm -rf BgeeDB.buildbin-libdir && mkdir BgeeDB.buildbin-libdir && /Users/biocbuild/BBS/utils/build-universal.sh BgeeDB_2.26.0.tar.gz /Library/Frameworks/R.framework/Resources/bin/R BgeeDB.buildbin-libdir StartedAt: 2023-06-15 08:59:51 -0400 (Thu, 15 Jun 2023) EndedAt: 2023-06-15 09:00:59 -0400 (Thu, 15 Jun 2023) EllapsedTime: 67.9 seconds RetCode: 0 Status: OK PackageFile: BgeeDB_2.26.0.tgz PackageFileSize: 337 KiB