Package: BatchQC Version: 1.28.0 Command: F:\biocbuild\bbs-3.17-bioc\R\bin\R.exe CMD INSTALL BatchQC StartedAt: 2023-10-15 16:49:49 -0400 (Sun, 15 Oct 2023) EndedAt: 2023-10-15 16:50:24 -0400 (Sun, 15 Oct 2023) EllapsedTime: 34.9 seconds RetCode: 0 Status: OK