Package: BLMA Version: 1.24.0 Command: /Library/Frameworks/R.framework/Resources/bin/R CMD build --keep-empty-dirs --no-resave-data BLMA StartedAt: 2023-10-15 17:05:05 -0400 (Sun, 15 Oct 2023) EndedAt: 2023-10-15 17:16:39 -0400 (Sun, 15 Oct 2023) EllapsedTime: 693.7 seconds RetCode: 0 Status: OK PackageFile: BLMA_1.24.0.tar.gz PackageFileSize: 2.826 MiB